BEGIN:VCALENDAR
VERSION:2.0
PRODID:-//Reit- und Fahrverein Selchow e.V. - ECPv6.15.20//NONSGML v1.0//EN
CALSCALE:GREGORIAN
METHOD:PUBLISH
X-WR-CALNAME:Reit- und Fahrverein Selchow e.V.
X-ORIGINAL-URL:http://www.reitverein-selchow.de
X-WR-CALDESC:Veranstaltungen für Reit- und Fahrverein Selchow e.V.
REFRESH-INTERVAL;VALUE=DURATION:PT1H
X-Robots-Tag:noindex
X-PUBLISHED-TTL:PT1H
BEGIN:VTIMEZONE
TZID:Europe/Berlin
BEGIN:DAYLIGHT
TZOFFSETFROM:+0100
TZOFFSETTO:+0200
TZNAME:CEST
DTSTART:20250330T010000
END:DAYLIGHT
BEGIN:STANDARD
TZOFFSETFROM:+0200
TZOFFSETTO:+0100
TZNAME:CET
DTSTART:20251026T010000
END:STANDARD
BEGIN:DAYLIGHT
TZOFFSETFROM:+0100
TZOFFSETTO:+0200
TZNAME:CEST
DTSTART:20260329T010000
END:DAYLIGHT
BEGIN:STANDARD
TZOFFSETFROM:+0200
TZOFFSETTO:+0100
TZNAME:CET
DTSTART:20261025T010000
END:STANDARD
BEGIN:DAYLIGHT
TZOFFSETFROM:+0100
TZOFFSETTO:+0200
TZNAME:CEST
DTSTART:20270328T010000
END:DAYLIGHT
BEGIN:STANDARD
TZOFFSETFROM:+0200
TZOFFSETTO:+0100
TZNAME:CET
DTSTART:20271031T010000
END:STANDARD
END:VTIMEZONE
BEGIN:VEVENT
DTSTART;TZID=Europe/Berlin:20260109T180000
DTEND;TZID=Europe/Berlin:20260109T180000
DTSTAMP:20260425T145621
CREATED:20251112T103606Z
LAST-MODIFIED:20251112T103606Z
UID:21741-1767981600-1767981600@www.reitverein-selchow.de
SUMMARY:Jahreshauptversammlung 2026
DESCRIPTION:Liebe Mitglieder\, \nwir freuen uns\, euch bei der Jahreshauptversammlung im Januar zu sehen!
URL:http://www.reitverein-selchow.de/event/jahreshauptversammlung-2026/
LOCATION:Reit- und Fahrverein Selchow e.V.\, Glasower Straße · Gutshof Pferdestall\, Schönefeld OT Selchow\, Brandenburg\, 12529\, Deutschland
CATEGORIES:Mitgliederversammlung
END:VEVENT
END:VCALENDAR