BEGIN:VCALENDAR
VERSION:2.0
PRODID:-//Reit- und Fahrverein Selchow e.V. - ECPv6.15.20//NONSGML v1.0//EN
CALSCALE:GREGORIAN
METHOD:PUBLISH
X-ORIGINAL-URL:http://www.reitverein-selchow.de
X-WR-CALDESC:Veranstaltungen für Reit- und Fahrverein Selchow e.V.
REFRESH-INTERVAL;VALUE=DURATION:PT1H
X-Robots-Tag:noindex
X-PUBLISHED-TTL:PT1H
BEGIN:VTIMEZONE
TZID:Europe/Berlin
BEGIN:DAYLIGHT
TZOFFSETFROM:+0100
TZOFFSETTO:+0200
TZNAME:CEST
DTSTART:20240331T010000
END:DAYLIGHT
BEGIN:STANDARD
TZOFFSETFROM:+0200
TZOFFSETTO:+0100
TZNAME:CET
DTSTART:20241027T010000
END:STANDARD
BEGIN:DAYLIGHT
TZOFFSETFROM:+0100
TZOFFSETTO:+0200
TZNAME:CEST
DTSTART:20250330T010000
END:DAYLIGHT
BEGIN:STANDARD
TZOFFSETFROM:+0200
TZOFFSETTO:+0100
TZNAME:CET
DTSTART:20251026T010000
END:STANDARD
BEGIN:DAYLIGHT
TZOFFSETFROM:+0100
TZOFFSETTO:+0200
TZNAME:CEST
DTSTART:20260329T010000
END:DAYLIGHT
BEGIN:STANDARD
TZOFFSETFROM:+0200
TZOFFSETTO:+0100
TZNAME:CET
DTSTART:20261025T010000
END:STANDARD
END:VTIMEZONE
BEGIN:VEVENT
DTSTART;TZID=Europe/Berlin:20250720T100000
DTEND;TZID=Europe/Berlin:20250720T170000
DTSTAMP:20260422T112639
CREATED:20250530T200308Z
LAST-MODIFIED:20250530T200308Z
UID:21580-1753005600-1753030800@www.reitverein-selchow.de
SUMMARY:Jubiläumsfeier: 50 Jahre Reitverein
DESCRIPTION:Herzlich laden wir zur Jubiläumsfeier zum 50 Jährigen Bestehen unseres Vereins ein! \nFür Verpflegung ist gesorgt und unsere Vereinsmitglieder planen bereits fleißig ihre Vorführungen. \nNatürlich darf auch das Glücksrad und die Station zum Hufeisen werfen nicht fehlen. \nWir freuen uns auf euch!
URL:http://www.reitverein-selchow.de/event/jubilaeumsfeier-50-jahre-reitverein/
LOCATION:Reit- und Fahrverein Selchow e.V.\, Glasower Straße · Gutshof Pferdestall\, Schönefeld OT Selchow\, Brandenburg\, 12529\, Deutschland
ATTACH;FMTTYPE=image/jpeg:http://www.reitverein-selchow.de/wp-content/uploads/2025/05/WhatsApp-Image-2025-05-16-at-13.26.21.jpeg
ORGANIZER;CN="Reit- und Fahrverein Selchow e.V.":MAILTO:info@reitverein-selchow.de
END:VEVENT
END:VCALENDAR