BEGIN:VCALENDAR
VERSION:2.0
PRODID:-//Reit- und Fahrverein Selchow e.V. - ECPv6.15.20//NONSGML v1.0//EN
CALSCALE:GREGORIAN
METHOD:PUBLISH
X-WR-CALNAME:Reit- und Fahrverein Selchow e.V.
X-ORIGINAL-URL:http://www.reitverein-selchow.de
X-WR-CALDESC:Veranstaltungen für Reit- und Fahrverein Selchow e.V.
REFRESH-INTERVAL;VALUE=DURATION:PT1H
X-Robots-Tag:noindex
X-PUBLISHED-TTL:PT1H
BEGIN:VTIMEZONE
TZID:UTC
BEGIN:STANDARD
TZOFFSETFROM:+0000
TZOFFSETTO:+0000
TZNAME:UTC
DTSTART:20220101T000000
END:STANDARD
END:VTIMEZONE
BEGIN:VEVENT
DTSTART;TZID=UTC:20230421T190000
DTEND;TZID=UTC:20230429T210000
DTSTAMP:20260426T032330
CREATED:20230421T120044Z
LAST-MODIFIED:20240824T075224Z
UID:1213-1682103600-1682802000@www.reitverein-selchow.de
SUMMARY:Jahreshauptversammlung 2023
DESCRIPTION:Wir laden Euch herzlich zur Jahreshauptversammlung ein. \nWir freuen uns über zahlreiches Erscheinen. \nDownload Agenda
URL:http://www.reitverein-selchow.de/event/hauptversammlung-2023/
LOCATION:Gemeinschaftssaal Selchow\, Alte Selchower Strasse 3\, Schönefeld OT Selchow\, 12529
CATEGORIES:Mitgliederversammlung
ATTACH;FMTTYPE=image/jpeg:http://www.reitverein-selchow.de/wp-content/uploads/2024/01/IMG_4269-scaled.jpeg
ORGANIZER;CN="Reit- und Fahrverein Selchow e.V.":MAILTO:info@reitverein-selchow.de
END:VEVENT
END:VCALENDAR