BEGIN:VCALENDAR
VERSION:2.0
PRODID:-//Reit- und Fahrverein Selchow e.V. - ECPv6.15.20//NONSGML v1.0//EN
CALSCALE:GREGORIAN
METHOD:PUBLISH
X-ORIGINAL-URL:http://www.reitverein-selchow.de
X-WR-CALDESC:Veranstaltungen für Reit- und Fahrverein Selchow e.V.
REFRESH-INTERVAL;VALUE=DURATION:PT1H
X-Robots-Tag:noindex
X-PUBLISHED-TTL:PT1H
BEGIN:VTIMEZONE
TZID:UTC
BEGIN:STANDARD
TZOFFSETFROM:+0000
TZOFFSETTO:+0000
TZNAME:UTC
DTSTART:20220101T000000
END:STANDARD
END:VTIMEZONE
BEGIN:VEVENT
DTSTART;TZID=UTC:20230630T190000
DTEND;TZID=UTC:20230630T210000
DTSTAMP:20260426T001015
CREATED:20230630T120023Z
LAST-MODIFIED:20240111T145012Z
UID:1215-1688151600-1688158800@www.reitverein-selchow.de
SUMMARY:Außerordentliche Mitgliederversammlung
DESCRIPTION:Wir laden Euch herzlich zur außerordentlichen Mitgliederversammlung am 30.06.2023 um 19 Uhr im Vereinshaus des Reitvereins Selchow ein\, 12529 Schönefeld OT Selchow. \nWir freuen uns über zahlreiches Erscheinen. \n  \n  \nDownload Einladung
URL:http://www.reitverein-selchow.de/event/m-versammlung-2023-06-30/
LOCATION:Reit- und Fahrverein Selchow e.V.\, Glasower Straße · Gutshof Pferdestall\, Schönefeld OT Selchow\, Brandenburg\, 12529\, Deutschland
CATEGORIES:Mitgliederversammlung
ATTACH;FMTTYPE=image/jpeg:http://www.reitverein-selchow.de/wp-content/uploads/2024/01/Waschkueche.jpg
ORGANIZER;CN="Reit- und Fahrverein Selchow e.V.":MAILTO:info@reitverein-selchow.de
END:VEVENT
END:VCALENDAR