BEGIN:VCALENDAR
VERSION:2.0
PRODID:-//Reit- und Fahrverein Selchow e.V. - ECPv6.15.20//NONSGML v1.0//EN
CALSCALE:GREGORIAN
METHOD:PUBLISH
X-ORIGINAL-URL:http://www.reitverein-selchow.de
X-WR-CALDESC:Veranstaltungen für Reit- und Fahrverein Selchow e.V.
REFRESH-INTERVAL;VALUE=DURATION:PT1H
X-Robots-Tag:noindex
X-PUBLISHED-TTL:PT1H
BEGIN:VTIMEZONE
TZID:UTC
BEGIN:STANDARD
TZOFFSETFROM:+0000
TZOFFSETTO:+0000
TZNAME:UTC
DTSTART:20220101T000000
END:STANDARD
END:VTIMEZONE
BEGIN:VEVENT
DTSTART;TZID=UTC:20231202T130000
DTEND;TZID=UTC:20231202T180000
DTSTAMP:20260425T145328
CREATED:20231202T091610Z
LAST-MODIFIED:20240112T060853Z
UID:1743-1701522000-1701540000@www.reitverein-selchow.de
SUMMARY:Weihnachtsfest 2023
DESCRIPTION:Wir laden euch herzlich zu unserem ersten Weihnachtsfest inkl. Basar zu uns auf den Hof ein. Dieser Tag soll ein Erlebnis für die ganze Familie werden. Es gibt Ponyreiten\, Kinderschminken\, Weihnachtskugeln und Weihnachtsgestecke basteln sowie die Möglichkeit Familienbilder inkl. Pferd zu machen.\nFür das leibliche Wohl ist gesorgt. Wir freuen uns auf euren Besuch!
URL:http://www.reitverein-selchow.de/event/vaulting-illustrious-show/
LOCATION:Reit- und Fahrverein Selchow e.V.\, Glasower Straße · Gutshof Pferdestall\, Schönefeld OT Selchow\, Brandenburg\, 12529\, Deutschland
CATEGORIES:Feier,Flohmarkt
ATTACH;FMTTYPE=image/jpeg:http://www.reitverein-selchow.de/wp-content/uploads/2020/05/weihnachtsfest_2023_12.jpeg
ORGANIZER;CN="Reit- und Fahrverein Selchow e.V.":MAILTO:info@reitverein-selchow.de
END:VEVENT
END:VCALENDAR