BEGIN:VCALENDAR
VERSION:2.0
PRODID:-//Reit- und Fahrverein Selchow e.V. - ECPv6.15.20//NONSGML v1.0//EN
CALSCALE:GREGORIAN
METHOD:PUBLISH
X-ORIGINAL-URL:http://www.reitverein-selchow.de
X-WR-CALDESC:Veranstaltungen für Reit- und Fahrverein Selchow e.V.
REFRESH-INTERVAL;VALUE=DURATION:PT1H
X-Robots-Tag:noindex
X-PUBLISHED-TTL:PT1H
BEGIN:VTIMEZONE
TZID:Europe/Berlin
BEGIN:DAYLIGHT
TZOFFSETFROM:+0100
TZOFFSETTO:+0200
TZNAME:CEST
DTSTART:20230326T010000
END:DAYLIGHT
BEGIN:STANDARD
TZOFFSETFROM:+0200
TZOFFSETTO:+0100
TZNAME:CET
DTSTART:20231029T010000
END:STANDARD
BEGIN:DAYLIGHT
TZOFFSETFROM:+0100
TZOFFSETTO:+0200
TZNAME:CEST
DTSTART:20240331T010000
END:DAYLIGHT
BEGIN:STANDARD
TZOFFSETFROM:+0200
TZOFFSETTO:+0100
TZNAME:CET
DTSTART:20241027T010000
END:STANDARD
BEGIN:DAYLIGHT
TZOFFSETFROM:+0100
TZOFFSETTO:+0200
TZNAME:CEST
DTSTART:20250330T010000
END:DAYLIGHT
BEGIN:STANDARD
TZOFFSETFROM:+0200
TZOFFSETTO:+0100
TZNAME:CET
DTSTART:20251026T010000
END:STANDARD
END:VTIMEZONE
BEGIN:VEVENT
DTSTART;TZID=Europe/Berlin:20240525T150000
DTEND;TZID=Europe/Berlin:20240525T180000
DTSTAMP:20260423T102005
CREATED:20240416T174801Z
LAST-MODIFIED:20240522T182659Z
UID:21151-1716649200-1716660000@www.reitverein-selchow.de
SUMMARY:Tag der offenen Tür für Groß und Klein
DESCRIPTION:Wir laden euch herzlich zu unserem Tag der offenen Tür ein. \nFür Groß und Klein haben wir ein spannendes Programm: \n\nVorführung Reiten: Englisch vs. Western\nEinfahren eines Pferdes\nEinführung Hobby Horsing für Kinder\n\nZusätzlich gibt es eine Tombola\, Hufeisenwerfen und die Möglichkeit einer Fotosession.\nEs warten tolle Preise bei der Tombola auf euch\, z.B. ein 50€ Gutschein für den Wasserskilift im MAGIX Wake- & Freizeitpark Großbeeren: https://www.wakeboarding-berlin.de . \nFür Speis und Trank ist gesorgt\, mit unserem Kuchenbasar und Würstchen vom Grill. \nWir freuen uns auf euren Besuch!
URL:http://www.reitverein-selchow.de/event/tag-der-offenen-tuer-fuer-gross-und-klein/
LOCATION:Reit- und Fahrverein Selchow e.V.\, Glasower Straße · Gutshof Pferdestall\, Schönefeld OT Selchow\, Brandenburg\, 12529\, Deutschland
CATEGORIES:Tag der offenen Tür
ATTACH;FMTTYPE=image/png:http://www.reitverein-selchow.de/wp-content/uploads/2024/05/RFV-Tag-der-offenen-Tuer-2024.png
ORGANIZER;CN="Reit- und Fahrverein Selchow e.V.":MAILTO:info@reitverein-selchow.de
END:VEVENT
END:VCALENDAR