BEGIN:VCALENDAR
VERSION:2.0
PRODID:-//Reit- und Fahrverein Selchow e.V. - ECPv6.15.20//NONSGML v1.0//EN
CALSCALE:GREGORIAN
METHOD:PUBLISH
X-WR-CALNAME:Reit- und Fahrverein Selchow e.V.
X-ORIGINAL-URL:http://www.reitverein-selchow.de
X-WR-CALDESC:Veranstaltungen für Reit- und Fahrverein Selchow e.V.
REFRESH-INTERVAL;VALUE=DURATION:PT1H
X-Robots-Tag:noindex
X-PUBLISHED-TTL:PT1H
BEGIN:VTIMEZONE
TZID:Europe/Berlin
BEGIN:DAYLIGHT
TZOFFSETFROM:+0100
TZOFFSETTO:+0200
TZNAME:CEST
DTSTART:20240331T010000
END:DAYLIGHT
BEGIN:STANDARD
TZOFFSETFROM:+0200
TZOFFSETTO:+0100
TZNAME:CET
DTSTART:20241027T010000
END:STANDARD
BEGIN:DAYLIGHT
TZOFFSETFROM:+0100
TZOFFSETTO:+0200
TZNAME:CEST
DTSTART:20250330T010000
END:DAYLIGHT
BEGIN:STANDARD
TZOFFSETFROM:+0200
TZOFFSETTO:+0100
TZNAME:CET
DTSTART:20251026T010000
END:STANDARD
BEGIN:DAYLIGHT
TZOFFSETFROM:+0100
TZOFFSETTO:+0200
TZNAME:CEST
DTSTART:20260329T010000
END:DAYLIGHT
BEGIN:STANDARD
TZOFFSETFROM:+0200
TZOFFSETTO:+0100
TZNAME:CET
DTSTART:20261025T010000
END:STANDARD
END:VTIMEZONE
BEGIN:VEVENT
DTSTART;TZID=Europe/Berlin:20250328T190000
DTEND;TZID=Europe/Berlin:20250328T200000
DTSTAMP:20260422T162634
CREATED:20250220T112022Z
LAST-MODIFIED:20250226T141919Z
UID:21407-1743188400-1743192000@www.reitverein-selchow.de
SUMMARY:Jahreshauptversammlung 2025
DESCRIPTION:Liebe Mitglieder\, \nim Anhang findet Ihr die Einladung zur diesjährigen JHV. Wir freuen uns über zahlreiches Erscheinen. \nBitte richtet Euch bei niedrigen Temperaturen mit der Wahl der Kleidung auf die Sitzung in der Reithalle ein. \nViele Grüße\,\nder Vorstand \nDownload Einladung
URL:http://www.reitverein-selchow.de/event/jahreshauptversammlung-2025/
LOCATION:Reit- und Fahrverein Selchow e.V.\, Glasower Straße · Gutshof Pferdestall\, Schönefeld OT Selchow\, Brandenburg\, 12529\, Deutschland
CATEGORIES:Mitgliederversammlung
ORGANIZER;CN="Reit- und Fahrverein Selchow e.V.":MAILTO:info@reitverein-selchow.de
END:VEVENT
END:VCALENDAR